BEGIN:VCALENDAR
VERSION:2.0
PRODID:-//wp-events-plugin.com//7.2.3.1//EN
TZID:America/New_York
X-WR-TIMEZONE:America/New_York
BEGIN:VEVENT
UID:34@philadelphiaquarter.org
DTSTART;TZID=America/New_York;VALUE=DATE:20231209
DTEND;TZID=America/New_York;VALUE=DATE:20231210
DTSTAMP:20231122T205122Z
URL:https://philadelphiaquarter.org/events/christmas-peace-pilgrimage-naza
 reth-to-bethlehem/
SUMMARY:Christmas Peace Pilgrimage : Nazareth to Bethlehem
DESCRIPTION:Christmas Peace Pilgrimage : Nazareth to Bethlehem\n\nSaturday 
 December 9\, 2023\n\n\nWalk the Road of Peace\nThe Pilgrimage began in 196
 0 as a Christian witness for peace.  We welcome all persons of any age t
 o join the Pilgrimage\, symbolic of the journey of Mary and Joseph.\nDuri
 ng the 10 mile trek from Nazareth to Bethlehem\, Pennsylvania we seek to 
 reflect the non-violent life of Jesus Christ and his truth of forgiving lo
 ve. \nWalk with your family and friends and make new friends with others 
 who seek a more peaceful world\n\n
END:VEVENT
BEGIN:VTIMEZONE
TZID:America/New_York
X-LIC-LOCATION:America/New_York
BEGIN:STANDARD
DTSTART:20231105T010000
TZOFFSETFROM:-0400
TZOFFSETTO:-0500
TZNAME:EST
END:STANDARD
END:VTIMEZONE
END:VCALENDAR