BEGIN:VCALENDAR
VERSION:2.0
PRODID:-//wp-events-plugin.com//7.2.3.1//EN
TZID:America/New_York
X-WR-TIMEZONE:America/New_York
BEGIN:VEVENT
UID:84@philadelphiaquarter.org
DTSTART;TZID=America/New_York:20260509T093000
DTEND;TZID=America/New_York:20260509T160000
DTSTAMP:20260419T143456Z
URL:https://philadelphiaquarter.org/events/sojourn-day-pendle-hill/
SUMMARY:Sojourn Day at Pendle Hill
DESCRIPTION:\n\nPendle Hill warmly welcomes Philadelphia Quarterly Meeting 
 for a day of fellowship and exploration on Saturday\, May 9\, 2026. This s
 pecial gathering is limited to 30 participants\, will include worship\, a 
 guided campus tour\, shared lunch\, and a variety of afternoon activities.
  Participants may choose from offerings such as mindfulness training\, hym
 n singing\, conversations with resident scholars\, art projects\, and more
 . The day will also include time for questions\, reflection\, and closing 
 worship. Please note that activity offerings are subject to change as plan
 s are finalized. \n\nThe day begins at 9:30 a.m. in the Barn and conclude
 s around 4:00 p.m. Lunch will be provided in the Main House\, and the book
 store will be open during free time (as volunteer availability allows). Th
 e campus tour will take place rain or shine (except in the case of lightni
 ng).\n\nRegistration is now full\, and this event is sold out. \n\n\n\nht
 tps://form.jotform.com/260475243322047
LOCATION:Pendle Hill\, 339 Plush Mill Road\, Wallingford\, PA\, 19086\, Uni
 ted States
X-APPLE-STRUCTURED-LOCATION;VALUE=URI;X-ADDRESS=339 Plush Mill Road\, Walli
 ngford\, PA\, 19086\, United States;X-APPLE-RADIUS=100;X-TITLE=Pendle Hill
 :geo:0,0
END:VEVENT
BEGIN:VTIMEZONE
TZID:America/New_York
X-LIC-LOCATION:America/New_York
BEGIN:DAYLIGHT
DTSTART:20260308T030000
TZOFFSETFROM:-0500
TZOFFSETTO:-0400
TZNAME:EDT
END:DAYLIGHT
END:VTIMEZONE
END:VCALENDAR